BEGIN:VCALENDAR
VERSION:2.0
PRODID:-//chanuterda.com//NONSGML kigkonsult.se iCalcreator 2.30.10//
CALSCALE:GREGORIAN
METHOD:PUBLISH
UID:fd727458-725c-4177-a386-9db79f21a298
X-WR-CALDESC:Babies and Toddlers will listen to easy stories\, sing songs\,
  and do other various activities! Birth to 36 months\, no registration req
 uired.
X-WR-RELCALID:00dfd751b8706eaf0a2ef06f38767e03
X-WR-TIMEZONE:America/Chicago
BEGIN:VTIMEZONE
TZID:America/Chicago
BEGIN:STANDARD
TZNAME:CST
DTSTART:20251102T020000
TZOFFSETFROM:-0500
TZOFFSETTO:-0600
RDATE:20261101T020000
END:STANDARD
BEGIN:DAYLIGHT
TZNAME:CDT
DTSTART:20260308T020000
TZOFFSETFROM:-0600
TZOFFSETTO:-0500
RDATE:20270314T020000
END:DAYLIGHT
END:VTIMEZONE
BEGIN:VEVENT
UID:c17b5b5e-657d-4c44-84fb-c7ed0d129f94
DTSTAMP:20260425T113948Z
DESCRIPTION:Babies and Toddlers will listen to easy stories\, sing songs\, 
 and do other various activities! Birth to 36 months\, no registration requ
 ired.
DTSTART;TZID=America/Chicago:20260501T100000
DTEND;TZID=America/Chicago:20260501T103000
LOCATION:111 N Lincoln Ave\, Chanute\, KS 66720 US
SUMMARY:Chanute Public Library- Rhyme Time
END:VEVENT
END:VCALENDAR
