BEGIN:VCALENDAR
VERSION:2.0
PRODID:-//chanuterda.com//NONSGML kigkonsult.se iCalcreator 2.30.10//
CALSCALE:GREGORIAN
METHOD:PUBLISH
UID:77b97f88-c013-42d9-a31a-205b7bc26ce9
X-WR-CALDESC:Family Open Gym 5:30pm-7pm and Adult Open Gym (16+) 7pm-8:30pm
  $2 per ticket.
X-WR-RELCALID:fe35e7d118bbebeb86c2245912d0b22f
X-WR-TIMEZONE:America/Chicago
BEGIN:VTIMEZONE
TZID:America/Chicago
BEGIN:STANDARD
TZNAME:CST
DTSTART:20251102T020000
TZOFFSETFROM:-0500
TZOFFSETTO:-0600
RDATE:20261101T020000
END:STANDARD
BEGIN:DAYLIGHT
TZNAME:CDT
DTSTART:20260308T020000
TZOFFSETFROM:-0600
TZOFFSETTO:-0500
RDATE:20270314T020000
END:DAYLIGHT
END:VTIMEZONE
BEGIN:VEVENT
UID:b29f846d-f251-481f-bff2-c53423d3395b
DTSTAMP:20260423T180958Z
DESCRIPTION:Family Open Gym 5:30pm-7pm and Adult Open Gym (16+) 7pm-8:30pm 
 $2 per ticket.
DTSTART;TZID=America/Chicago:20260429T170000
DTEND;TZID=America/Chicago:20260429T203000
LOCATION:400 S Highland\, Chanute\, KS 66720 US
SUMMARY:Chanute Recreation Commission Open Gym
END:VEVENT
END:VCALENDAR
