BEGIN:VCALENDAR
VERSION:2.0
PRODID:-//chanuterda.com//NONSGML kigkonsult.se iCalcreator 2.30.10//
CALSCALE:GREGORIAN
METHOD:PUBLISH
UID:f4b1b524-ef73-49cf-85bc-82e7a0ec7713
X-WR-CALDESC:Join the Chanute Public Library every Tuesday at 10am for stor
 ytime! Listen to stories\, songs and make crafts\, perfect for children ag
 es 3 & up. Children must be signed up. Call Miss Kandi or Miss Jeana at 62
 0-431-3820 if you have questions. Please keep risks low for our staff and 
 others by social distancing and wearing a mask.\n\nMore Details
X-WR-RELCALID:6fe8700e9d8f5b3fd60dd75818f14b1a
X-WR-TIMEZONE:America/Chicago
BEGIN:VTIMEZONE
TZID:America/Chicago
BEGIN:STANDARD
TZNAME:CST
DTSTART:20251102T020000
TZOFFSETFROM:-0500
TZOFFSETTO:-0600
RDATE:20261101T020000
END:STANDARD
BEGIN:DAYLIGHT
TZNAME:CDT
DTSTART:20260308T020000
TZOFFSETFROM:-0600
TZOFFSETTO:-0500
RDATE:20270314T020000
END:DAYLIGHT
END:VTIMEZONE
BEGIN:VEVENT
UID:daf09635-579d-45a6-a8df-d8c6248c8880
DTSTAMP:20260422T120850Z
DESCRIPTION:Join the Chanute Public Library every Tuesday at 10am for story
 time! Listen to stories\, songs and make crafts\, perfect for children age
 s 3 & up. Children must be signed up. Call Miss Kandi or Miss Jeana at 620
 -431-3820 if you have questions. Please keep risks low for our staff and o
 thers by social distancing and wearing a mask.\n\nMore Details
DTSTART;TZID=America/Chicago:20260428T100000
DTEND;TZID=America/Chicago:20260428T120000
LOCATION:111 N Lincoln Ave\, Chanute\, KS 66720 US
SUMMARY:Chanute Public Library Storytime
END:VEVENT
END:VCALENDAR
