BEGIN:VCALENDAR
VERSION:2.0
PRODID:-//chanuterda.com//NONSGML kigkonsult.se iCalcreator 2.30.10//
CALSCALE:GREGORIAN
METHOD:PUBLISH
UID:0a2ff66c-145a-4a45-9f12-4e3ec7c1078c
X-WR-CALDESC:No ID required to receive food. Clients can receive food once 
 every 4 weeks. Closed Christmas.\nIncome based/1 person $1\,396 / 2 people
  $1\,888 / 3 people $2\,378 / 4 people $2\,871 / 5 people $3\,363 / 6 peop
 le $3\,855 / 7 people $4\,347 / 8 people $4\,839
X-WR-RELCALID:a662cdf9457489b8aa73c37ec51c4464
X-WR-TIMEZONE:America/Chicago
BEGIN:VTIMEZONE
TZID:America/Chicago
BEGIN:STANDARD
TZNAME:CST
DTSTART:20251102T020000
TZOFFSETFROM:-0500
TZOFFSETTO:-0600
RDATE:20261101T020000
END:STANDARD
BEGIN:DAYLIGHT
TZNAME:CDT
DTSTART:20260308T020000
TZOFFSETFROM:-0600
TZOFFSETTO:-0500
RDATE:20270314T020000
END:DAYLIGHT
END:VTIMEZONE
BEGIN:VEVENT
UID:41c0d433-c36d-490c-b5ab-fd90b494e32c
DTSTAMP:20260424T111611Z
DESCRIPTION:No ID required to receive food. Clients can receive food once e
 very 4 weeks. Closed Christmas.\nIncome based/1 person $1\,396 / 2 people 
 $1\,888 / 3 people $2\,378 / 4 people $2\,871 / 5 people $3\,363 / 6 peopl
 e $3\,855 / 7 people $4\,347 / 8 people $4\,839
DTSTART;TZID=America/Chicago:20260428T090000
DTEND;TZID=America/Chicago:20260428T110000
LOCATION:102 N Grant\, Chanute\, KS 66720 US
SUMMARY:Gods Food Pantry
END:VEVENT
END:VCALENDAR
