BEGIN:VCALENDAR
VERSION:2.0
PRODID:-//chanuterda.com//NONSGML kigkonsult.se iCalcreator 2.30.10//
CALSCALE:GREGORIAN
METHOD:PUBLISH
UID:a773725c-6ed8-4d89-8a4c-966a62256de2
X-WR-CALDESC:Hot Hope Meals are a drive-thru meal option prepared by volunt
 eers at First Baptist Church. The meals are served every monday evening at
  6:30pm. They are available to anyone that needs them. Delivery is not ava
 ilable.
X-WR-RELCALID:a7ce1ddb92e13f95fb8581831a547ed2
X-WR-TIMEZONE:America/Chicago
BEGIN:VTIMEZONE
TZID:America/Chicago
BEGIN:STANDARD
TZNAME:CST
DTSTART:20251102T020000
TZOFFSETFROM:-0500
TZOFFSETTO:-0600
RDATE:20261101T020000
END:STANDARD
BEGIN:DAYLIGHT
TZNAME:CDT
DTSTART:20260308T020000
TZOFFSETFROM:-0600
TZOFFSETTO:-0500
RDATE:20270314T020000
END:DAYLIGHT
END:VTIMEZONE
BEGIN:VEVENT
UID:cd209b9b-a236-4096-8772-1fe4431ec415
DTSTAMP:20260421T115512Z
DESCRIPTION:Hot Hope Meals are a drive-thru meal option prepared by volunte
 ers at First Baptist Church. The meals are served every monday evening at 
 6:30pm. They are available to anyone that needs them. Delivery is not avai
 lable.
DTSTART;TZID=America/Chicago:20260427T183000
DTEND;TZID=America/Chicago:20260427T203000
LOCATION:118 N Forest Ave\, Chanute\, KS 66720 US
SUMMARY:Hot Hope Meals
END:VEVENT
END:VCALENDAR
