BEGIN:VCALENDAR
VERSION:2.0
PRODID:-//chanuterda.com//NONSGML kigkonsult.se iCalcreator 2.30.10//
CALSCALE:GREGORIAN
METHOD:PUBLISH
UID:17f925a4-b06b-417e-8d74-487802905f83
X-WR-CALDESC:CRC Gym $2 a day or $20 for a 12 punch pass.
X-WR-RELCALID:629a8a5c9fd468963c1da332e9a218ee
X-WR-TIMEZONE:America/Chicago
BEGIN:VTIMEZONE
TZID:America/Chicago
BEGIN:STANDARD
TZNAME:CST
DTSTART:20251102T020000
TZOFFSETFROM:-0500
TZOFFSETTO:-0600
RDATE:20261101T020000
END:STANDARD
BEGIN:DAYLIGHT
TZNAME:CDT
DTSTART:20260308T020000
TZOFFSETFROM:-0600
TZOFFSETTO:-0500
RDATE:20270314T020000
END:DAYLIGHT
END:VTIMEZONE
BEGIN:VEVENT
UID:f1ccf3c2-7ca5-456b-9bcc-953a602329b9
DTSTAMP:20260425T113457Z
DESCRIPTION:CRC Gym $2 a day or $20 for a 12 punch pass.
DTSTART;TZID=America/Chicago:20260427T100000
DTEND;TZID=America/Chicago:20260427T120000
LOCATION:400 S Highland\, Chanute\, KS 66720 US
SUMMARY:Chanute Recreation Pickleball
END:VEVENT
END:VCALENDAR
