BEGIN:VCALENDAR
VERSION:2.0
PRODID:-//chanuterda.com//NONSGML kigkonsult.se iCalcreator 2.30.10//
CALSCALE:GREGORIAN
METHOD:PUBLISH
UID:b1b78134-15d2-4a88-9142-16fdecce4626
X-WR-CALDESC:CRC Gym $2 a day or $20 for a 12 punch pass.
X-WR-RELCALID:b55e93fc9a6bd42daca19e3900edab4e
X-WR-TIMEZONE:America/Chicago
BEGIN:VTIMEZONE
TZID:America/Chicago
BEGIN:STANDARD
TZNAME:CST
DTSTART:20251102T020000
TZOFFSETFROM:-0500
TZOFFSETTO:-0600
RDATE:20261101T020000
END:STANDARD
BEGIN:DAYLIGHT
TZNAME:CDT
DTSTART:20260308T020000
TZOFFSETFROM:-0600
TZOFFSETTO:-0500
RDATE:20270314T020000
END:DAYLIGHT
END:VTIMEZONE
BEGIN:VEVENT
UID:edb2cfd2-3d44-4f95-ba92-b2e602f7179d
DTSTAMP:20260423T181029Z
DESCRIPTION:CRC Gym $2 a day or $20 for a 12 punch pass.
DTSTART;TZID=America/Chicago:20260424T100000
DTEND;TZID=America/Chicago:20260424T120000
LOCATION:400 S Highland\, Chanute\, KS 66720 US
SUMMARY:Chanute Recreation Pickleball
END:VEVENT
END:VCALENDAR
