BEGIN:VCALENDAR
VERSION:2.0
PRODID:-//chanuterda.com//NONSGML kigkonsult.se iCalcreator 2.30.10//
CALSCALE:GREGORIAN
METHOD:PUBLISH
UID:e90dcb6e-8c20-4cb4-a51a-c9915d834434
X-WR-CALDESC:Babies and Toddlers will listen to easy stories\, sing songs\,
  and do other various activities! Birth to 36 months\, no registration req
 uired.
X-WR-RELCALID:9e9111697fe8af170018efdba9d205b7
X-WR-TIMEZONE:America/Chicago
BEGIN:VTIMEZONE
TZID:America/Chicago
BEGIN:STANDARD
TZNAME:CST
DTSTART:20251102T020000
TZOFFSETFROM:-0500
TZOFFSETTO:-0600
RDATE:20261101T020000
END:STANDARD
BEGIN:DAYLIGHT
TZNAME:CDT
DTSTART:20260308T020000
TZOFFSETFROM:-0600
TZOFFSETTO:-0500
RDATE:20270314T020000
END:DAYLIGHT
END:VTIMEZONE
BEGIN:VEVENT
UID:e19e6879-fb02-4f21-b782-af87eed9aecc
DTSTAMP:20260422T102758Z
DESCRIPTION:Babies and Toddlers will listen to easy stories\, sing songs\, 
 and do other various activities! Birth to 36 months\, no registration requ
 ired.
DTSTART;TZID=America/Chicago:20260424T100000
DTEND;TZID=America/Chicago:20260424T103000
LOCATION:111 N Lincoln Ave\, Chanute\, KS 66720 US
SUMMARY:Chanute Public Library- Rhyme Time
END:VEVENT
END:VCALENDAR
