BEGIN:VCALENDAR
VERSION:2.0
PRODID:-//chanuterda.com//NONSGML kigkonsult.se iCalcreator 2.30.10//
CALSCALE:GREGORIAN
METHOD:PUBLISH
UID:d5690bbd-c79d-494e-b311-b154fa96ce5a
X-WR-CALDESC:Family Open Gym 5:30pm-7pm and Adult Open Gym (16+) 7pm-8:30pm
  $2 per ticket.
X-WR-RELCALID:8d95a87ad154a85cd4c96f4db169b386
X-WR-TIMEZONE:America/Chicago
BEGIN:VTIMEZONE
TZID:America/Chicago
BEGIN:STANDARD
TZNAME:CST
DTSTART:20251102T020000
TZOFFSETFROM:-0500
TZOFFSETTO:-0600
RDATE:20261101T020000
END:STANDARD
BEGIN:DAYLIGHT
TZNAME:CDT
DTSTART:20260308T020000
TZOFFSETFROM:-0600
TZOFFSETTO:-0500
RDATE:20270314T020000
END:DAYLIGHT
END:VTIMEZONE
BEGIN:VEVENT
UID:ff671360-9a0b-4d04-ac0b-ea671aae7cfc
DTSTAMP:20260422T104833Z
DESCRIPTION:Family Open Gym 5:30pm-7pm and Adult Open Gym (16+) 7pm-8:30pm 
 $2 per ticket.
DTSTART;TZID=America/Chicago:20260422T170000
DTEND;TZID=America/Chicago:20260422T203000
LOCATION:400 S Highland\, Chanute\, KS 66720 US
SUMMARY:Chanute Recreation Commission Open Gym
END:VEVENT
END:VCALENDAR
