BEGIN:VCALENDAR
VERSION:2.0
PRODID:-//chanuterda.com//NONSGML kigkonsult.se iCalcreator 2.30.10//
CALSCALE:GREGORIAN
METHOD:PUBLISH
UID:bcae1508-8998-423e-9ebb-1d2391812c06
X-WR-CALDESC:CRC Gym $2 a day or $20 for a 12 punch pass.
X-WR-RELCALID:d43493a40134c3b6c4feb2998f276f52
X-WR-TIMEZONE:America/Chicago
BEGIN:VTIMEZONE
TZID:America/Chicago
BEGIN:STANDARD
TZNAME:CST
DTSTART:20251102T020000
TZOFFSETFROM:-0500
TZOFFSETTO:-0600
RDATE:20261101T020000
END:STANDARD
BEGIN:DAYLIGHT
TZNAME:CDT
DTSTART:20260308T020000
TZOFFSETFROM:-0600
TZOFFSETTO:-0500
RDATE:20270314T020000
END:DAYLIGHT
END:VTIMEZONE
BEGIN:VEVENT
UID:3a6bb39c-86c6-4675-a09a-c0c36e4271e6
DTSTAMP:20260421T115441Z
DESCRIPTION:CRC Gym $2 a day or $20 for a 12 punch pass.
DTSTART;TZID=America/Chicago:20260422T100000
DTEND;TZID=America/Chicago:20260422T120000
LOCATION:400 S Highland\, Chanute\, KS 66720 US
SUMMARY:Chanute Recreation Pickleball
END:VEVENT
END:VCALENDAR
