BEGIN:VCALENDAR
VERSION:2.0
PRODID:-//chanuterda.com//NONSGML kigkonsult.se iCalcreator 2.30.10//
CALSCALE:GREGORIAN
METHOD:PUBLISH
UID:279b01b6-e2ba-4bc5-8f44-572bada1b6c2
X-WR-CALDESC:CRC Gym $2 a day or $20 for a 12 punch pass.
X-WR-RELCALID:871c442694a1ae2af02b10adffbfe835
X-WR-TIMEZONE:America/Chicago
BEGIN:VTIMEZONE
TZID:America/Chicago
BEGIN:STANDARD
TZNAME:CST
DTSTART:20251102T020000
TZOFFSETFROM:-0500
TZOFFSETTO:-0600
RDATE:20261101T020000
END:STANDARD
BEGIN:DAYLIGHT
TZNAME:CDT
DTSTART:20260308T020000
TZOFFSETFROM:-0600
TZOFFSETTO:-0500
RDATE:20270314T020000
END:DAYLIGHT
END:VTIMEZONE
BEGIN:VEVENT
UID:2a9d7261-d239-4367-80bc-e4ceddb002be
DTSTAMP:20260422T103705Z
DESCRIPTION:CRC Gym $2 a day or $20 for a 12 punch pass.
DTSTART;TZID=America/Chicago:20260420T100000
DTEND;TZID=America/Chicago:20260420T120000
LOCATION:400 S Highland\, Chanute\, KS 66720 US
SUMMARY:Chanute Recreation Pickleball
END:VEVENT
END:VCALENDAR
