BEGIN:VCALENDAR
VERSION:2.0
PRODID:-//chanuterda.com//NONSGML kigkonsult.se iCalcreator 2.30.10//
CALSCALE:GREGORIAN
METHOD:PUBLISH
UID:748fc7a1-7d7d-432e-9626-d573af7eef91
X-WR-CALDESC:CRC Gym $2 a day or $20 for a 12 punch pass.
X-WR-RELCALID:7e3aeb717d626e16172fa3d279d3b416
X-WR-TIMEZONE:America/Chicago
BEGIN:VTIMEZONE
TZID:America/Chicago
BEGIN:STANDARD
TZNAME:CST
DTSTART:20251102T020000
TZOFFSETFROM:-0500
TZOFFSETTO:-0600
RDATE:20261101T020000
END:STANDARD
BEGIN:DAYLIGHT
TZNAME:CDT
DTSTART:20260308T020000
TZOFFSETFROM:-0600
TZOFFSETTO:-0500
RDATE:20270314T020000
END:DAYLIGHT
END:VTIMEZONE
BEGIN:VEVENT
UID:c58a154b-db83-4d55-90d7-45130e251558
DTSTAMP:20260422T091144Z
DESCRIPTION:CRC Gym $2 a day or $20 for a 12 punch pass.
DTSTART;TZID=America/Chicago:20260417T100000
DTEND;TZID=America/Chicago:20260417T120000
LOCATION:400 S Highland\, Chanute\, KS 66720 US
SUMMARY:Chanute Recreation Pickleball
END:VEVENT
END:VCALENDAR
