BEGIN:VCALENDAR
VERSION:2.0
PRODID:-//chanuterda.com//NONSGML kigkonsult.se iCalcreator 2.30.10//
CALSCALE:GREGORIAN
METHOD:PUBLISH
UID:7921ba46-7517-425b-b7d8-2b116b566178
X-WR-CALDESC:Neighbor2Neighbor Food Pantry is  open at First Baptist Church
  every Thursday evening from 5-6pm. Boxes are available to anyone in need 
 of assistance.  Delivery is not available.\n\n*On the Thursdays that Neigh
 bor2Neighbor falls on a Commodity distribution we will distribute food box
 es according to income guidelines. Those that qualify for Commodities will
  receive a commodity box and those whose income does not qualify for Commo
 dities will receive a Neighbor2Neighbor box.
X-WR-RELCALID:8dfdb2138a8eb9ec6a58b5db1c7b1ec3
X-WR-TIMEZONE:America/Chicago
BEGIN:VTIMEZONE
TZID:America/Chicago
BEGIN:STANDARD
TZNAME:CST
DTSTART:20241103T020000
TZOFFSETFROM:-0500
TZOFFSETTO:-0600
RDATE:20251102T020000
RDATE:20261101T020000
END:STANDARD
BEGIN:DAYLIGHT
TZNAME:CDT
DTSTART:20250309T020000
TZOFFSETFROM:-0600
TZOFFSETTO:-0500
RDATE:20260308T020000
END:DAYLIGHT
END:VTIMEZONE
BEGIN:VEVENT
UID:47bb07a8-6642-4608-b382-3499a6419d39
DTSTAMP:20260422T085658Z
DESCRIPTION:Neighbor2Neighbor Food Pantry is  open at First Baptist Church 
 every Thursday evening from 5-6pm. Boxes are available to anyone in need o
 f assistance.  Delivery is not available.\n\n*On the Thursdays that Neighb
 or2Neighbor falls on a Commodity distribution we will distribute food boxe
 s according to income guidelines. Those that qualify for Commodities will 
 receive a commodity box and those whose income does not qualify for Commod
 ities will receive a Neighbor2Neighbor box.
DTSTART;TZID=America/Chicago:20250512T183000
DTEND;TZID=America/Chicago:20250512T193000
LOCATION:118 N Forest Ave\, Chanute\, KS 66720 US
SUMMARY:Neighbor2Neighbor Food Pantry
END:VEVENT
END:VCALENDAR
